BEGIN:VCALENDAR
VERSION:2.0
METHOD:PUBLISH
PRODID:-//Accessible Web Design//My Calendar//http://www.joedolson.com//v//EN';
BEGIN:VEVENT
UID:7-5
LOCATION:Government Headquarters Church Street  Basseterre
SUMMARY:Sitting of the National Assembly
DTSTAMP:20230402
ORGANIZER;CN=nacarty:MAILTO:info@capitalskn.com
DTSTART:20230402
DTEND:20230404
CATEGORIES:General
URL;VALUE=URI:https://sknsource.com/mc-events/sitting-of-the-national-assembly-2/?mc_id=7
DESCRIPTION:
X-FUNAMBOL-ALLDAY: 1
X-MICROSOFT-CDO-ALLDAYEVENT: TRUE

END:VEVENT
END:VCALENDAR